BEGIN:VCALENDAR
VERSION:2.0
PRODID:-//Valley Regional Transit - ECPv6.14.1//NONSGML v1.0//EN
CALSCALE:GREGORIAN
METHOD:PUBLISH
X-ORIGINAL-URL:https://www.valleyregionaltransit.org
X-WR-CALDESC:Events for Valley Regional Transit
REFRESH-INTERVAL;VALUE=DURATION:PT1H
X-Robots-Tag:noindex
X-PUBLISHED-TTL:PT1H
BEGIN:VTIMEZONE
TZID:America/Boise
BEGIN:DAYLIGHT
TZOFFSETFROM:-0700
TZOFFSETTO:-0600
TZNAME:MDT
DTSTART:20260308T090000
END:DAYLIGHT
BEGIN:STANDARD
TZOFFSETFROM:-0600
TZOFFSETTO:-0700
TZNAME:MST
DTSTART:20261101T080000
END:STANDARD
END:VTIMEZONE
BEGIN:VEVENT
DTSTART;VALUE=DATE:20260325
DTEND;VALUE=DATE:20260329
DTSTAMP:20260421T071351
CREATED:20260319T222921Z
LAST-MODIFIED:20260319T224254Z
UID:18424-1774396800-1774742399@www.valleyregionaltransit.org
SUMMARY:Ride the Treeline + Any VRT Bus for FREE During Treefort 2026
DESCRIPTION:Ride the Treeline + Any VRT Bus for FREE During Treefort 2026 \nGetting around Treefort just got easier. During Treefort 2026\, hop on the Treeline shuttle and ride any Valley Regional Transit bus for free with your festival wristband. \nThe Treeline is a free downtown bus connecting festival-goers to key Treefort stops throughout the event. Keep an eye out for the Band Bus\, your moving music venue featuring live Treefort tunes as you roll from show to show. \nTreeline Hours of Operation:Wednesday\, March 25: 6–11 p.m.Thursday\, March 26: 2–11 p.m.Friday\, March 27: 1–11 p.m.Saturday\, March 28: 12–11 p.m. \nTreeline Stop Locations• Julia Davis Park (Main Stage)• River & Pioneer• 13th & Main• Main & 11th• Main & 8th (Main Street Station)• 6th & Grove• 6th & Broad \nFestival FreebieYour Treefort wristband doubles as your pass to ride any VRT bus for free during the festival. Just show your wristband to the bus operator when you board. \nBands on the BusHop on the Treeline Band Bus and catch a performance on your way to the next show. Treeline tunes are free\, all-ages\, and open to the public. \nBands on the Bus schedule coming soon.
URL:https://www.valleyregionaltransit.org/event/ride-the-treeline-any-vrt-bus-for-free-during-treefort-2026/
LOCATION:Downtown Boise
CATEGORIES:Event Service,Extra Hours,Extra Hours,Supplemental Service,Youth Ride Free
ATTACH;FMTTYPE=image/jpeg:/wp-content/uploads/2026/03/20240323_031651050_iOS-1-1.jpg
END:VEVENT
END:VCALENDAR