BEGIN:VCALENDAR
VERSION:2.0
PRODID:-//Valley Regional Transit - ECPv6.14.1//NONSGML v1.0//EN
CALSCALE:GREGORIAN
METHOD:PUBLISH
X-ORIGINAL-URL:https://www.valleyregionaltransit.org
X-WR-CALDESC:Events for Valley Regional Transit
REFRESH-INTERVAL;VALUE=DURATION:PT1H
X-Robots-Tag:noindex
X-PUBLISHED-TTL:PT1H
BEGIN:VTIMEZONE
TZID:America/Boise
BEGIN:DAYLIGHT
TZOFFSETFROM:-0700
TZOFFSETTO:-0600
TZNAME:MDT
DTSTART:20250309T090000
END:DAYLIGHT
BEGIN:STANDARD
TZOFFSETFROM:-0600
TZOFFSETTO:-0700
TZNAME:MST
DTSTART:20251102T080000
END:STANDARD
END:VTIMEZONE
BEGIN:VEVENT
DTSTART;TZID=America/Boise:20250415T180000
DTEND;TZID=America/Boise:20250415T200000
DTSTAMP:20260422T201143
CREATED:20250403T002236Z
LAST-MODIFIED:20250408T225014Z
UID:15308-1744740000-1744747200@www.valleyregionaltransit.org
SUMMARY:City of Boise Public Transit Hearing
DESCRIPTION:Each year\, the Boise City Council takes public input about the importance of public transportation as they develop their budget. \nThis public hearing is your chance to tell the Boise City Council what public transportation means to you\, what works\, and where we can improve. Your input will help inform the City of Boise’s transit funding contribution to VRT. \nDetails about the public hearing will be posted on the City Council meeting agenda. \nLearn more about how to access the meeting and view the agenda. 
URL:https://www.valleyregionaltransit.org/event/city-of-boise-public-transit-hearing/
LOCATION:Boise City Hall\, 150 N Capitol Blvd\, Boise\, ID 83702\, Boise\, ID\, 83702
CATEGORIES:Governance,Outreach,Public Hearing
ATTACH;FMTTYPE=image/jpeg:/wp-content/uploads/2025/04/R-scaled.jpeg
END:VEVENT
END:VCALENDAR