BEGIN:VCALENDAR
VERSION:2.0
PRODID:-//Valley Regional Transit - ECPv6.14.1//NONSGML v1.0//EN
CALSCALE:GREGORIAN
METHOD:PUBLISH
X-ORIGINAL-URL:https://www.valleyregionaltransit.org
X-WR-CALDESC:Events for Valley Regional Transit
REFRESH-INTERVAL;VALUE=DURATION:PT1H
X-Robots-Tag:noindex
X-PUBLISHED-TTL:PT1H
BEGIN:VTIMEZONE
TZID:America/Boise
BEGIN:DAYLIGHT
TZOFFSETFROM:-0700
TZOFFSETTO:-0600
TZNAME:MDT
DTSTART:20260308T090000
END:DAYLIGHT
BEGIN:STANDARD
TZOFFSETFROM:-0600
TZOFFSETTO:-0700
TZNAME:MST
DTSTART:20261101T080000
END:STANDARD
END:VTIMEZONE
BEGIN:VEVENT
DTSTART;TZID=America/Boise:20260212T090000
DTEND;TZID=America/Boise:20260212T130000
DTSTAMP:20260421T092616
CREATED:20260120T221731Z
LAST-MODIFIED:20260120T231644Z
UID:17893-1770886800-1770901200@www.valleyregionaltransit.org
SUMMARY:2026 Idaho Transit Day at the Capitol
DESCRIPTION:2026 Idaho Transit Day at the Capitol\nHosted by the Community Transportation Association of Idaho (CTAI) \nJoin transit professionals\, community leaders\, and advocates from across the state for 2026 Idaho Transit Day at the Capitol—a dedicated day to elevate the role of public transportation in Idaho and engage in meaningful conversations about the challenges and opportunities facing transit agencies today. \nThis annual gathering brings together urban and rural voices to connect directly with peers\, partners\, and policymakers. Attendees will hear from national and local leaders\, participate in focused panel discussions\, and build a shared understanding of how transit supports mobility\, economic vitality\, and community well-being across Idaho. \nThe morning program will feature a keynote presentation from Scott Bogren\, Executive Director of the Community Transportation Association of America\, followed by panels exploring agency-wide operational challenges and the unique funding realities facing rural transit providers. The event will conclude with a hosted lunch at Main Street Station\, offering additional time for networking and discussion. \nWhether you work in transit operations\, planning\, advocacy\, or policy\, this event is an opportunity to learn\, share\, and help shape the future of transportation in Idaho. \n\nPreliminary Agenda\nIdaho State Capitol Building | Lincoln Auditorium \n9:00 AM – Welcome9:15 AM – Keynote Presentation• Scott Bogren\, Community Transportation Association of America \n10:00 AM – Panel: Agency Challenges10:45 AM – Break11:00 AM – Panel: Rural Funding Challenges12:00 PM – Lunch at Main Street Station \n\n\n\n\n\nLunch will be provided. Limited capacity\, register here: 2026 Transit Day at the Capitol \n\nCan’t make it on the 12th? Recordings and session materials will be posted here following Transit Day at the Capitol. \nTransit Day at the Capitol explores the vital role public transportation plays in Idaho’s communities and equip attendees with the tools needed to share the impact with peers\, neighbors\, and elected officials. The program runs until mid-day to allow time to meet with your representatives if you wish. To schedule time with your legislator(s)\, visit: legislature.idaho.gov/legislators/whosmylegislator
URL:https://www.valleyregionaltransit.org/event/2026-idaho-transit-day-at-the-capitol/
LOCATION:Idaho State Capitol\, 700 W Jefferson St\, Boise\, ID 83702\, Boise\, ID\, 83702
CATEGORIES:Community
ATTACH;FMTTYPE=image/jpeg:/wp-content/uploads/2026/01/2602-CTAI_Save-the-Date_v2.jpg
END:VEVENT
END:VCALENDAR